{"text_format":"3","workbook":"xlsx","n_sheets":3,"sheets":["Gebührenrechner","Prozesskostenrechner","Datenbank"],"not_rendered":{"defined_names":3,"comments":1},"read":"row_number_cap","date_system":"1900"}

{"sheet":"Gebührenrechner","index":0,"n_rows":34,"n_cols":5,"rows_kept":34,"merged":[[33,2,33,4]]}
[]
[null,null,"t@xwert GEBÜHRENRECHNER 2.0"]
[]
[null,null,"Gegenstandswert / Streitwert =",null,{"v":0,"d":"0 €"}]
[]
[null,null,"Umsatzsteuersatz für anwaltliche Leistungen =",null,{"v":0.19,"d":"19%"}]
[]
[null,null,"Gesetzesstand",null,"ab 01.08.2013"]
[]
[{"$nulls":4},"Gebühren"]
[]
[{"$nulls":4},"Finanzamt"]
[]
[null,null,"Gebühr für eine verbindliche Auskunft\nnach § 89 Abgabenordnung (AO) =",null,{"$f":"Datenbank!B49","v":{"v":0,"d":"0 €"}}]
[null,null,"Die Gebühr wird in entsprechender Anwendung des § 34 des Gerichtskostengesetzes mit einem Gebührensatz von 1,0 erhoben. § 39 Absatz 2 des Gerichtskostengesetzes ist entsprechend anzuwenden. Beträgt der Gegenstandswert weniger als 10 000 Euro, wird keine Gebühr erhoben. Ist ein Gegenstandswert nicht bestimmbar und kann er auch nicht durch Schätzung bestimmt werden, ist eine Zeitgebühr zu berechnen; sie beträgt 50 Euro je angefangene halbe Stunde Bearbeitungszeit. Beträgt die Bearbeitungszeit weniger als zwei Stunden, wird keine Gebühr erhoben. Auf die Gebühr kann ganz oder teilweise verzichtet werden, wenn ihre Erhebung nach Lage des einzelnen Falls unbillig wäre. Die Gebühr kann insbesondere ermäßigt werden, wenn ein Antrag auf Erteilung einer verbindlichen Auskunft vor Bekanntgabe der Entscheidung der Finanzbehörde zurückgenommen wird."]
[]
[{"$nulls":4},"Gericht"]
[]
[null,null,"Gerichtskosten -\nProzesskostenrisiko bei Verfahrensbeendigung"]
[]
[null,null,"Gerichtskosten gem. §§ 3, 34, Anlage 1 GKG\n+ Rechtsanwaltsvergütung gem. §§ 2, 13, Anlage 1 RVG"]
[]
[null,null,"durch Urteil in der ersten Instanz =",null,{"$f":"Prozesskostenrechner!I52","v":{"v":420.34999999999997,"d":"420 €"}}]
[]
[null,null,"durch Vergleich in der ersten Instanz =",null,{"$f":"Prozesskostenrechner!I53","v":{"v":457.45,"d":"457 €"}}]
[]
[null,null,"durch Urteil in der zweiten Instanz =",null,{"$f":"Prozesskostenrechner!I54","v":{"v":907.8299999999999,"d":"908 €"}}]
[]
[null,null,"durch Vergleich in der zweiten Instanz =",null,{"$f":"Prozesskostenrechner!I55","v":{"v":977.06,"d":"977 €"}}]
[null,null,"Gesamtkostenrisiko: Das errechnete Gesamtkostenrisiko umfasst die ggf. reduzierten Gerichtsgebühren sowie die Verfahrens-, Termins- und ggf. Einigungsgebühren nebst Post- und Telekommunikationspauschale für die Prozessbevollmächtigten beider Seiten, und zwar für die Fälle, dass beide Parteien, nur eine Partei oder keine Partei vorsteuerabzugsberechtigt ist."]
[]
[]
[]
[null,null,"Seit dem 01.07.2006 ist der Bereich der anwaltlichen Honorierung im außergerichtlichen Bereich dereguliert. Dementsprechend besteht für diesen Bereich seither ein Verhandlungsspielraum. Die ausgewiesene Gebühr stellt diesbezüglich nur eine Verhandlungsbasis dar.\nDer Gebührenrechner wurde mit großer Sorgfalt erstellt. Jedoch können auch bei noch so sorgfältiger Arbeitsweise Fehler nicht völlig ausgeschlossen werden. Deshalb übernimmt der Autor keine Garantie für die Richtigkeit der hier ausgewiesenen Daten. Die abschließende Gebührenerhebung steht allein im Verantwortungsbereich der Kostensteller. \nDer Autor bittet Hinweise auf eventuelle Fehler per e-mail an gebuehrenfehler@taxwert.de zu schicken. Hierbei wären Erläuterungen mit Verweisen auf die relevanten Rechtsnormen sehr hilfreich."]

{"sheet":"Prozesskostenrechner","index":1,"n_rows":83,"n_cols":14,"rows_kept":83,"hidden":true,"merged":[[57,1,57,2]],"read":"row_number_cap"}
[null,"Prozesskostenrechner",{"$nulls":9},"kein Eingabefehler","Checkboxen","Auswahllisten"]
[null,"Erläuterungen s. unten, Druckansicht s. hinten"]
[]
["I","Streit-/Gegenstandswert",{"$f":"Gebührenrechner!E4","v":{"v":0,"d":"0.00"}},{"$nulls":8},{"$f":"IF(OR(ISERROR(C4),ISTEXT(C4)),FALSE,NOT(OR(C4<0,C4=\"\")))","v":true}]
[null,"Umsatzsteuersatz für anwaltliche Leistungen",{"$f":"Gebührenrechner!E6","v":{"v":0.19,"d":"19.0%"}},{"$nulls":8},{"$f":"IF(OR(ISERROR(C5),ISTEXT(C5)),FALSE,NOT(OR(C5<0,C5>1,C5=\"\",C5-ROUNDDOWN(C5,3)>0)))","v":true}]
[null,"Gesetzesstand",{"$f":"Gebührenrechner!E8","v":"ab 01.08.2013"},{"$nulls":8},{"$f":"OR(EXACT(C6,N9:N11))","v":true}]
[]
[{"$nulls":13},{"$f":"Datenbank!B1","v":"ab 01.08.2013"}]
["II","Gerichtskosten gem. §§ 3, 34, Anlage 1 GKG",{"$nulls":11},"bis 31.07.2013"]
[null,"Streitwert, gedeckelt gem. § 39 Abs. 2 GKG",{"$f":"IF(AND($L$4,$L$6),Datenbank!E20,\"\")","v":{"v":0,"d":"0.00"}},{"$nulls":10},"ab 01.08.2013"]
[null,"Wertstufe gem. § 34 Abs. 1 GKG bis …",{"$f":"IF($C$10<>\"\",Datenbank!E22,\"\")","v":{"v":500,"d":"500.00"}},{"$nulls":10},"heute"]
[null,"1,0-Wertgebühr gem. § 34 Abs. 1 GKG",null,null,{"$f":"IF($C$10<>\"\",Datenbank!E23,\"\")","v":{"v":35,"d":"35.00"}}]
[null,"freie Eingabe",null,"Satz","Gebühr","Σ"]
[{"$nulls":4},{"$f":"IF(AND($C$10<>\"\",L14),IF(D14>0,MAX(E$12*D14,Datenbank!$E$21),\"\"),\"\")","v":""},{"$nulls":6},{"$f":"IF(OR(ISERROR(D14),ISTEXT(D14)),FALSE,NOT(OR(AND(D14<=0,D14<>\"\"),D14-ROUNDDOWN(D14,1)>0,AND(D14=\"\",M14=TRUE))))","v":true},false]
[null,"einzelne Gebühren gem. KV-GKG",null,"Satz","Gebühr","Σ"]
[null,"   Nr. 1210 (Verfahrensgebühr, erster Rechtszug)",null,{"v":3,"d":"3.0"},{"$f":"IF($C$10<>\"\",MAX(E$12*D16,Datenbank!$E$21),\"\")","v":{"v":105,"d":"105.00"}},{"$nulls":7},false]
[null,"   Nr. 1211 (Verfahrensgebühr bei vorzeitiger Verfahrensbeendigung)",null,{"v":1,"d":"1.0"},{"$f":"IF($C$10<>\"\",MAX(E$12*D17,Datenbank!$E$21),\"\")","v":{"v":35,"d":"35.00"}},{"$nulls":7},false]
[null,"   Nr. 1220 (Verfahrensgebühr, Berufung)",null,{"v":4,"d":"4.0"},{"$f":"IF($C$10<>\"\",MAX(E$12*D18,Datenbank!$E$21),\"\")","v":{"v":140,"d":"140.00"}},{"$nulls":7},false]
[null,"   Nr. 1222 (Verfahrensgebühr bei Verf.beend. nach Berufungsbegr.)",null,{"v":2,"d":"2.0"},{"$f":"IF($C$10<>\"\",MAX(E$12*D19,Datenbank!$E$21),\"\")","v":{"v":70,"d":"70.00"}},{"$nulls":7},false]
[null,"   Nr. 1230 (Verfahrensgebühr, Revision)",null,{"v":5,"d":"5.0"},{"$f":"IF($C$10<>\"\",MAX(E$12*D20,Datenbank!$E$21),\"\")","v":{"v":175,"d":"175.00"}},{"$nulls":7},false]
[null,"   Nr. 1610 (Verfahrensgebühr, selbständiges Beweisverfahren)",null,{"v":1,"d":"1.0"},{"$f":"IF($C$10<>\"\",MAX(E$12*D21,Datenbank!$E$21),\"\")","v":{"v":35,"d":"35.00"}},{"$nulls":7},false]
[null,"Endsumme",null,null,{"$f":"IF($C$10<>\"\",SUMIF(M14,TRUE,E14)+SUMIF(M16:M21,TRUE,E16:E21),\"\")","v":{"v":0,"d":"0.00"}}]
[]
["III","Rechtsanwaltsvergütung gem. §§ 2, 13, Anlage 1 RVG"]
[null,"Gegenstandswert, gedeckelt gem. § 22 Abs. 2 Satz 1 RVG",{"$f":"IF(AND($L$4,$L$6),Datenbank!E42,\"\")","v":{"v":0,"d":"0.00"}}]
[null,"Wertstufe gem. § 13 Abs. 1 RVG bis …",{"$f":"IF($C$25<>\"\",Datenbank!E44,\"\")","v":{"v":500,"d":"500.00"}}]
[null,"1,0-Wertgebühr gem. § 13 Abs. 1 RVG",null,null,{"$f":"IF($C$25<>\"\",Datenbank!E45,\"\")","v":{"v":45,"d":"45.00"}}]
[null,"freie Eingabe",null,"Satz","Gebühr","Σ","Nr. 7002","Nr. 7008","netto","brutto"]
[{"$nulls":4},{"$f":"IF(AND($C$25<>\"\",L29),IF(D29>0,MAX(E$27*D29,Datenbank!$E$43),\"\"),\"\")","v":""},null,{"$f":"IF(E29<>\"\",MIN(E29*0.2,20),\"\")","v":""},{"$f":"IF(AND($L$5,E29<>\"\"),I29*C$5,\"\")","v":""},{"$f":"IF(E29<>\"\",SUM(E29,G29),\"\")","v":""},{"$f":"IF(H29<>\"\",SUM(I29,H29),\"\")","v":""},null,{"$f":"IF(OR(ISERROR(D29),ISTEXT(D29)),FALSE,NOT(OR(AND(D29<=0,D29<>\"\"),D29-ROUNDDOWN(D29,2)>0,AND(D29=\"\",M29=TRUE))))","v":true},false]
[{"$nulls":4},{"$f":"IF(AND($C$25<>\"\",L30),IF(D30>0,MAX(E$27*D30,Datenbank!$E$43),\"\"),\"\")","v":""},null,{"$f":"IF(E30<>\"\",MIN(E30*0.2,20),\"\")","v":""},{"$f":"IF(AND($L$5,E30<>\"\"),I30*C$5,\"\")","v":""},{"$f":"IF(E30<>\"\",SUM(E30,G30),\"\")","v":""},{"$f":"IF(H30<>\"\",SUM(I30,H30),\"\")","v":""},null,{"$f":"IF(OR(ISERROR(D30),ISTEXT(D30)),FALSE,NOT(OR(AND(D30<=0,D30<>\"\"),D30-ROUNDDOWN(D30,2)>0,AND(D30=\"\",M30=TRUE))))","v":true},false]
[{"$nulls":4},{"$f":"IF(AND($C$25<>\"\",L31),IF(D31>0,MAX(E$27*D31,Datenbank!$E$43),\"\"),\"\")","v":""},null,"",{"$f":"IF(AND($L$5,E31<>\"\"),I31*C$5,\"\")","v":""},{"$f":"IF(E31<>\"\",SUM(E31,G31),\"\")","v":""},{"$f":"IF(H31<>\"\",SUM(I31,H31),\"\")","v":""},null,{"$f":"IF(OR(ISERROR(D31),ISTEXT(D31)),FALSE,NOT(OR(AND(D31<=0,D31<>\"\"),D31-ROUNDDOWN(D31,2)>0,AND(D31=\"\",M31=TRUE))))","v":true},false]
[null,"einzelne Gebühren gem. VV-RVG",null,"Satz","Gebühr","Σ","Nr. 7002","Nr. 7008","netto","brutto"]
[null,"   Nr. 2300 (Geschäftsgebühr, Schwellensatz gem. Anm.)",null,1.3,{"$f":"IF($C$25<>\"\",MAX(E$27*D33,Datenbank!$E$43),\"\")","v":{"v":58.5,"d":"58.50"}},null,{"v":11.700000000000001,"d":"11.70"},{"$f":"IF(AND($L$5,E33<>\"\"),I33*C$5,\"\")","v":{"v":13.338000000000001,"d":"13.34"}},{"$f":"IF(E33<>\"\",SUM(E33,G33),\"\")","v":{"v":70.2,"d":"70.20"}},{"$f":"IF(H33<>\"\",SUM(I33,H33),\"\")","v":{"v":83.53800000000001,"d":"83.54"}},null,null,false]
[null,"   Nr. 2300 (Geschäftsgebühr, überdurchschnittlich)",null,1.5,{"$f":"IF($C$25<>\"\",MAX(E$27*D34,Datenbank!$E$43),\"\")","v":{"v":67.5,"d":"67.50"}},null,{"v":13.5,"d":"13.50"},15.39,{"v":81,"d":"81.00"},96.39,null,null,false]
[null,"   Nr. 2300 (Geschäftsgebühr, überdurchschnittlich)",null,{"v":2,"d":"2.0"},{"$f":"IF($C$25<>\"\",MAX(E$27*D35,Datenbank!$E$43),\"\")","v":{"v":90,"d":"90.00"}},null,{"v":18,"d":"18.00"},20.52,{"v":108,"d":"108.00"},128.52,null,null,false]
[null,"   Nr. 3100 (Verfahrensgebühr, erster Rechtszug)",null,1.3,{"$f":"IF($C$25<>\"\",MAX(E$27*D36,Datenbank!$E$43),\"\")","v":{"v":58.5,"d":"58.50"}},null,{"v":11.700000000000001,"d":"11.70"},{"v":13.338000000000001,"d":"13.34"},{"v":70.2,"d":"70.20"},{"v":83.53800000000001,"d":"83.54"},null,null,false]
[null,"   Nr. 3100+3104 (Verfahrens- und Terminsgebühr, erster Rechtszug)",null,2.5,{"$f":"IF($C$25<>\"\",MAX(E$27*D37,Datenbank!$E$43),\"\")","v":{"v":112.5,"d":"112.50"}},null,{"v":20,"d":"20.00"},{"v":25.175,"d":"25.18"},{"v":132.5,"d":"132.50"},{"v":157.675,"d":"157.68"},null,null,false]
[null,"   Nr. 3200+3202 (Verfahrens- und Terminsgebühr, Berufung)",null,2.8,{"$f":"IF($C$25<>\"\",MAX(E$27*D38,Datenbank!$E$43),\"\")","v":{"v":125.99999999999999,"d":"126.00"}},null,{"v":20,"d":"20.00"},{"v":27.740000000000002,"d":"27.74"},{"v":146,"d":"146.00"},173.74,null,null,false]
[null,"   Nr. 3206+3210 (Verfahrens- und Terminsgebühr, Revision zum OLG)",null,{"$f":"3.1","v":3.1},{"$f":"IF($C$25<>\"\",MAX(E$27*D39,Datenbank!$E$43),\"\")","v":{"v":139.5,"d":"139.50"}},null,{"v":20,"d":"20.00"},{"v":30.305,"d":"30.31"},{"v":159.5,"d":"159.50"},{"v":189.805,"d":"189.81"},null,null,false]
[null,"   Nr. 3208+3210 (Verfahrens- und Terminsgebühr, Revision zum BGH)",null,{"$f":"3.8","v":3.8},{"$f":"IF($C$25<>\"\",MAX(E$27*D40,Datenbank!$E$43),\"\")","v":{"v":171,"d":"171.00"}},null,{"v":20,"d":"20.00"},36.29,{"v":191,"d":"191.00"},227.29,null,null,false]
[null,"   Nr. 1000 (Einigungsgebühr, vorgerichtlich)",null,1.5,{"$f":"IF($C$25<>\"\",MAX(E$27*D41,Datenbank!$E$43),\"\")","v":{"v":67.5,"d":"67.50"}},null,{"v":13.5,"d":"13.50"},15.39,{"v":81,"d":"81.00"},96.39,null,null,false]
[null,"   Nr. 1003 (Einigungsgebühr, erster Rechtszug)",null,{"v":1,"d":"1.0"},{"$f":"IF($C$25<>\"\",MAX(E$27*D42,Datenbank!$E$43),\"\")","v":{"v":45,"d":"45.00"}},null,{"v":9,"d":"9.00"},10.26,{"v":54,"d":"54.00"},64.26,null,null,false]
[null,"   Nr. 1004 (Einigungsgebühr, Berufung oder Revision)",null,1.3,{"$f":"IF($C$25<>\"\",MAX(E$27*D43,Datenbank!$E$43),\"\")","v":{"v":58.5,"d":"58.50"}},null,{"v":11.700000000000001,"d":"11.70"},{"v":13.338000000000001,"d":"13.34"},{"v":70.2,"d":"70.20"},{"v":83.53800000000001,"d":"83.54"},null,null,false]
[null,"   Nr. 1008 (Erhöhungsgebühr), gedeckelt gem. Anm. 3",null,{"$f":"IF(L44,MAX(0.3,MIN(F44*0.3,2)),\"\")","v":0.3},{"$f":"IF(AND($C$25<>\"\",L44),E$27*D44,\"\")","v":{"v":13.5,"d":"13.50"}},0,{"$nulls":5},{"$f":"IF(OR(ISERROR(F44),ISTEXT(F44)),FALSE,NOT(OR(F44<0,F44>99,F44=\"\",F44-INT(F44)>0)))","v":true}]
[null,"Zwischensumme",null,null,{"$f":"IF($C$25<>\"\",SUMIF(M29:M31,TRUE,E29:E31)+SUMIF(M33:M43,TRUE,E33:E43)+IF(L44,IF(F44>0,E44,0),0),\"\")","v":{"v":0,"d":"0.00"}}]
[null,"   Nr. 7002 (Post- und Telekommunikationspauschale)",null,null,{"$f":"IF(E45<>\"\",MIN(E45*0.2,20),\"\")","v":{"v":0,"d":"0.00"}}]
[null,"   Nr. 7008 (Umsatzsteuer)",null,null,{"$f":"IF(AND($L$5,E45<>\"\"),E48*C5,\"\")","v":{"v":0,"d":"0.00"}}]
[null,"Endsumme netto",null,null,{"$f":"IF(E45<>\"\",SUM(E45,E46),\"\")","v":{"v":0,"d":"0.00"}}]
[null,"Endsumme brutto",null,null,{"$f":"IF(E47<>\"\",SUM(E48,E47),\"\")","v":{"v":0,"d":"0.00"}}]
[]
["IV","Gesamtkostenrisiko bei Verfahrensbeendigung …",{"$nulls":4},"netto","netto/brutto","brutto"]
[null,"   in der ersten Instanz durch Urteil",{"$nulls":4},{"$f":"IF(AND($L$4,$L$6),$E$16+($E$37+MIN($E$37*0.2,20))*2,\"\")","v":{"v":370,"d":"370.00"}},{"$f":"IF(AND($L$4:$L$6),$E$16+($E$37+MIN($E$37*0.2,20))*(1+$C$5/2)*2,\"\")","v":{"v":395.175,"d":"395.18"}},{"$f":"IF(AND($L$4:$L$6),$E$16+($E$37+MIN($E$37*0.2,20))*(1+$C$5)*2,\"\")","v":{"v":420.34999999999997,"d":"420.35"}}]
[null,"   in der ersten Instanz durch Vergleich",{"$nulls":4},{"$f":"IF(AND($L$4,$L$6),$E$17+($E$37+$E$42+MIN(($E$37+$E$42)*0.2,20))*2,\"\")","v":{"v":390,"d":"390.00"}},{"$f":"IF(AND($L$4:$L$6),$E$17+($E$37+$E$42+MIN(($E$37+$E$42)*0.2,20))*(1+$C$5/2)*2,\"\")","v":{"v":423.72499999999997,"d":"423.73"}},{"$f":"IF(AND($L$4:$L$6),$E$17+($E$37+$E$42+MIN(($E$37+$E$42)*0.2,20))*(1+$C$5)*2,\"\")","v":457.45}]
[null,"   in der zweiten Instanz durch Urteil",{"$nulls":4},{"$f":"IF(AND($L$4,$L$6),$G$52+$E$18+($E$38+MIN($E$38*0.2,20))*2,\"\")","v":{"v":802,"d":"802.00"}},{"$f":"IF(AND($L$4:$L$6),$H$52+$E$18+($E$38+MIN($E$38*0.2,20))*(1+$C$5/2)*2,\"\")","v":{"v":854.915,"d":"854.92"}},{"$f":"IF(AND($L$4:$L$6),$I$52+$E$18+($E$38+MIN($E$38*0.2,20))*(1+$C$5)*2,\"\")","v":{"v":907.8299999999999,"d":"907.83"}}]
[null,"   in der zweiten Instanz durch Vergleich",{"$nulls":4},{"$f":"IF(AND($L$4,$L$6),$G$52+$E$19+($E$38+$E$43+MIN(($E$38+$E$43)*0.2,20))*2,\"\")","v":{"v":849,"d":"849.00"}},{"$f":"IF(AND($L$4:$L$6),$H$52+$E$19+($E$38+$E$43+MIN(($E$38+$E$43)*0.2,20))*(1+$C$5/2)*2,\"\")","v":913.03},{"$f":"IF(AND($L$4:$L$6),$I$52+$E$19+($E$38+$E$43+MIN(($E$38+$E$43)*0.2,20))*(1+$C$5)*2,\"\")","v":977.06}]
[]
["V","Eingabeprüfung"]
[null,{"$f":"IF(L58,\"Alle Eingaben sind fehlerfrei.\",\"Die rot gefärbten Felder enthalten fehlerhafte oder keine Eingaben!\")","v":"Alle Eingaben sind fehlerfrei."},{"$nulls":9},{"$f":"AND(L4:L6,L14,L29:L31,L44)","v":true}]
[]
[null,"Haftungsausschluss"]
[null,"Für die Richtigkeit der rechtlichen Bewertungen und der Berechnungsergebnisse besteht trotz sorgfältiger Bearbeitung und Prüfung keine Gewähr."]
[]
[null,"Erläuterungen"]
["I","Gesetzesstand: Der Prozesskostenrechner berücksichtigt die Änderungen durch das am 01.08.2013 in Kraft getretene 2. Kostenrechtsmodernisierungsgesetz."]
[null,"Für die Gebühren ist gem. §§ 71 Abs. 1 GKG, 60 Abs. 1 RVG die Rechtslage bei Anhängigkeit bzw. Auftragserteilung, für ein Rechtsmittelverfahren diejenige"]
[null,"bei Einlegung des Rechtsmittels maßgeblich. Wird als Gesetzesstand \"heute\" angegeben, so geht der Prozesskostenrechner vom heutigen Datum aus."]
["II","Wertstufe: Die Angabe ermöglicht eine Wertfestsetzung auf \"bis zu ... EUR\". Die Wertstufen sind nach gegenwärtiger Rechtslage für die Gerichtskosten und die"]
[null,"Rechtsanwaltsvergütung identisch."]
[null,"Wertgebühren: Die Mindestbetragsregelung gem. § 34 Abs. 2 GKG wendet der Prozesskostenrechner auf jede Gebühr einzeln an."]
["III","Gegenstandswert, gedeckelt: Die abweichende Deckelung bei mehreren Auftraggebern gem. § 22 Abs. 2 Satz 2 RVG wird vom Prozesskostenrechner wegen"]
[null,"ihrer geringen praktischen Bedeutung nicht berücksichtigt."]
[null,"Wertstufe: s. oben II."]
[null,"Wertgebühren: Die Mindestbetragsregelung gem. § 13 Abs. 2 RVG wendet der Prozesskostenrechner auf jede Gebühr einzeln an. Ausgenommen ist nur die"]
[null,"Erhöhungsgebühr gem. Nr. 1008 VV-RVG. Ob die Mindestbetragsregelung auch schon auf die zu erhöhende Gebühr anzuwenden ist, wenn diese unter dem"]
[null,"Mindestbetrag liegt, ist umstritten (Mayer/Kroiß/Kroiß: RVG, § 13, Rdnr. 33). Wegen der geringen praktischen Bedeutung behandelt der Prozesskostenrechner"]
[null,"diesen Fall nicht besonders, sondern wendet die Mindestbetragsregelung unterschiedslos an."]
[null,"Einigungs- und Erhöhungsgebühr, Pauschale: Die Einigungsgebühr, die Erhöhungsgebühr und die Post- und Telekommunikationspauschale gem. Nr. 1000 ff.,"]
[null,"1008, 7002 VV-RVG können für jede Angelegenheit gem. §§ 16 ff. RVG gesondert verlangt werden. Um die Tabelle übersichtlich zu halten, geht der Prozesskos-"]
[null,"tenrechner von nur einer Angelegenheit aus. Gesamtgebühren für mehrere Angelegenheiten (z. B. vorgerichtliches, Mahn- und streitiges Verfahren mit einzelnen"]
[null,"Rechtszügen) müssen eigenverantwortlich unter Berücksichtigung der Anrechnungsregelungen aufsummiert werden."]
["IV","Gesamtkostenrisiko: Das errechnete Gesamtkostenrisiko umfasst die ggf. reduzierten Gerichtsgebühren sowie die Verfahrens-, Termins- und ggf. Einigungsge-"]
[null,"bühren nebst Post- und Telekommunikationspauschale für die Prozessbevollmächtigten beider Seiten, und zwar für die Fälle, dass beide Parteien, nur eine Par-"]
[null,"tei oder keine Partei vorsteuerabzugsberechtigt ist."]

{"sheet":"Datenbank","index":2,"n_rows":49,"n_cols":20,"rows_kept":49,"hidden":true}
["Gesetzesstand:",{"$f":"IF(Prozesskostenrechner!C6=\"heute\",IF(TODAY()<=DATE(2013,7,31),\"bis 31.07.2013\",\"ab 01.08.2013\"),Prozesskostenrechner!C6)","v":"ab 01.08.2013"}]
[]
["Gerichtskosten, Wertgebühren gem. § 34 GKG (gesetzliche Vorgaben und konkrete Berechnung)"]
["Gesetzesstand:",{"$nulls":3},"bis 31.07.2013",{"$nulls":6},"Gesetzesstand:",{"$nulls":3},"ab 01.08.2013"]
["Streithöchstwert gem. § 39 Abs. 2 GKG",{"$nulls":3},{"v":30000000,"d":"30,000,000.00"},{"$nulls":6},"Streithöchstwert gem. § 39 Abs. 2 GKG",{"$nulls":3},{"v":30000000,"d":"30,000,000.00"}]
["Mindestgebühr gem. § 34 Abs. 2 GKG",{"$nulls":3},{"v":10,"d":"10.00"},{"$nulls":6},"Mindestgebühr gem. § 34 Abs. 2 GKG",{"$nulls":3},{"v":15,"d":"15.00"}]
["Streitwert, gedeckelt",{"$nulls":3},{"$f":"IF(Prozesskostenrechner!$C$4=\"\",0,MIN(E$5,Prozesskostenrechner!$C$4))","v":{"v":0,"d":"0.00"}},{"$nulls":6},"Streitwert, gedeckelt",{"$nulls":3},{"$f":"IF(Prozesskostenrechner!$C$4=\"\",0,MIN(P$5,Prozesskostenrechner!$C$4))","v":{"v":0,"d":"0.00"}}]
["Staffel",1,2,3,4,5,6,7,8,9,null,"Staffel",1,2,3,4,5,6,7,8]
["Beginn",{"v":0,"d":"0.00"},{"$f":"B10+0.01","v":300.01},{"$f":"C10+0.01","v":{"v":1500.01,"d":"1,500.01"}},{"v":5000.01,"d":"5,000.01"},{"v":10000.01,"d":"10,000.01"},{"v":25000.01,"d":"25,000.01"},{"v":50000.01,"d":"50,000.01"},{"v":200000.01,"d":"200,000.01"},{"v":500000.01,"d":"500,000.01"},null,"Beginn",{"v":0,"d":"0.00"},{"$f":"M10+0.01","v":500.01},{"$f":"N10+0.01","v":{"v":2000.01,"d":"2,000.01"}},{"v":10000.01,"d":"10,000.01"},{"v":25000.01,"d":"25,000.01"},{"v":50000.01,"d":"50,000.01"},{"v":200000.01,"d":"200,000.01"},{"v":500000.01,"d":"500,000.01"}]
["Ende",{"v":300,"d":"300.00"},{"v":1500,"d":"1,500.00"},{"v":5000,"d":"5,000.00"},{"v":10000,"d":"10,000.00"},{"v":25000,"d":"25,000.00"},{"v":50000,"d":"50,000.00"},{"v":200000,"d":"200,000.00"},{"v":500000,"d":"500,000.00"},null,null,"Ende",{"v":500,"d":"500.00"},{"v":2000,"d":"2,000.00"},{"v":10000,"d":"10,000.00"},{"v":25000,"d":"25,000.00"},{"v":50000,"d":"50,000.00"},{"v":200000,"d":"200,000.00"},{"v":500000,"d":"500,000.00"}]
["Erhöhungsstufe",{"$f":"B10","v":{"v":300,"d":"300.00"}},{"v":300,"d":"300.00"},{"v":500,"d":"500.00"},{"v":1000,"d":"1,000.00"},{"v":3000,"d":"3,000.00"},{"v":5000,"d":"5,000.00"},{"v":15000,"d":"15,000.00"},{"v":30000,"d":"30,000.00"},{"v":50000,"d":"50,000.00"},null,"Erhöhungsstufe",{"$f":"M10","v":{"v":500,"d":"500.00"}},{"v":500,"d":"500.00"},{"v":1000,"d":"1,000.00"},{"v":3000,"d":"3,000.00"},{"v":5000,"d":"5,000.00"},{"v":15000,"d":"15,000.00"},{"v":30000,"d":"30,000.00"},{"v":50000,"d":"50,000.00"}]
["Erhöhung",{"v":25,"d":"25.00"},{"v":10,"d":"10.00"},{"v":8,"d":"8.00"},{"v":15,"d":"15.00"},{"v":23,"d":"23.00"},{"v":29,"d":"29.00"},{"v":100,"d":"100.00"},{"v":150,"d":"150.00"},{"v":150,"d":"150.00"},null,"Erhöhung",{"v":35,"d":"35.00"},{"v":18,"d":"18.00"},{"v":19,"d":"19.00"},{"v":26,"d":"26.00"},{"v":35,"d":"35.00"},{"v":120,"d":"120.00"},{"v":179,"d":"179.00"},{"v":180,"d":"180.00"}]
["Gebührensprünge",1,{"$f":"MAX(0,ROUNDDOWN((MIN($E$7,C10)-C9)/C11+1,0))","v":0},0,0,0,0,0,0,{"$f":"MAX(0,ROUNDDOWN(($E$7-J9)/J11+1,0))","v":0},null,"Gebührensprünge",1,{"$f":"MAX(0,ROUNDDOWN((MIN($E$7,N10)-N9)/N11+1,0))","v":0},0,0,0,0,0,{"$f":"MAX(0,ROUNDDOWN(($E$7-T9)/T11+1,0))","v":0}]
["Teilwertstufen",{"$f":"B13*B11","v":{"v":300,"d":"300.00"}},{"$f":"C13*C11","v":{"v":0,"d":"0.00"}},{"$f":"D13*D11","v":{"v":0,"d":"0.00"}},{"$f":"E13*E11","v":{"v":0,"d":"0.00"}},{"v":0,"d":"0.00"},{"v":0,"d":"0.00"},{"v":0,"d":"0.00"},{"v":0,"d":"0.00"},{"v":0,"d":"0.00"},null,"Teilwertstufen",{"$f":"M13*M11","v":{"v":500,"d":"500.00"}},{"v":0,"d":"0.00"},{"v":0,"d":"0.00"},{"v":0,"d":"0.00"},{"v":0,"d":"0.00"},{"v":0,"d":"0.00"},{"v":0,"d":"0.00"},{"$f":"T13*T11","v":{"v":0,"d":"0.00"}}]
["Wertstufe",{"$f":"SUM(B14:J14)","v":{"v":300,"d":"300.00"}},{"$nulls":9},"Wertstufe",{"$f":"SUM(M14:T14)","v":{"v":500,"d":"500.00"}}]
["Teilgebühren",{"$f":"B13*B12","v":{"v":25,"d":"25.00"}},{"$f":"C13*C12","v":{"v":0,"d":"0.00"}},{"v":0,"d":"0.00"},{"v":0,"d":"0.00"},{"v":0,"d":"0.00"},{"v":0,"d":"0.00"},{"v":0,"d":"0.00"},{"v":0,"d":"0.00"},{"v":0,"d":"0.00"},null,"Teilgebühren",{"$f":"M13*M12","v":{"v":35,"d":"35.00"}},{"$f":"N13*N12","v":{"v":0,"d":"0.00"}},{"v":0,"d":"0.00"},{"v":0,"d":"0.00"},{"v":0,"d":"0.00"},{"v":0,"d":"0.00"},{"v":0,"d":"0.00"},{"$f":"T13*T12","v":{"v":0,"d":"0.00"}}]
["1,0-Gebühr",{"$f":"SUM(B16:J16)","v":{"v":25,"d":"25.00"}},{"$nulls":9},"1,0-Gebühr",{"$f":"SUM(M16:T16)","v":{"v":35,"d":"35.00"}}]
[]
["Gerichtskosten in Abhängigkeit vom Gesetzesstand (konkrete Berechnung)"]
["Streitwert, gedeckelt",{"$nulls":3},{"$f":"IF($B$1=$E4,$E7,IF($B$1=$P4,$P7,\"\"))","v":{"v":0,"d":"0.00"}}]
["Mindestgebühr",{"$nulls":3},{"$f":"IF($B$1=$E4,$E6,IF($B$1=$P4,$P6,\"\"))","v":{"v":15,"d":"15.00"}}]
["Wertstufe",{"$nulls":3},{"$f":"IF($B$1=$E4,$B15,IF($B$1=$P4,$M15,\"\"))","v":{"v":500,"d":"500.00"}}]
["1,0-Gebühr",{"$nulls":3},{"$f":"IF($B$1=$E4,$B17,IF($B$1=$P4,$M17,\"\"))","v":{"v":35,"d":"35.00"}}]
[]
["Rechtsanwaltsvergütung, Wertgebühren gem. § 13 RVG (gesetzliche Vorgaben und konkrete Berechnung)"]
["Gesetzesstand:",{"$nulls":3},"bis 31.07.2013",{"$nulls":6},"Gesetzesstand:",{"$nulls":3},"ab 01.08.2013"]
["Gegenstandshöchstwert gem. § 22 Abs. 2 Satz 1 RVG",{"$nulls":3},{"v":30000000,"d":"30,000,000.00"},{"$nulls":6},"Gegenstandshöchstwert gem. § 22 Abs. 2 Satz 1 RVG",{"$nulls":3},{"v":30000000,"d":"30,000,000.00"}]
["Mindestgebühr gem. § 13 Abs. 2 RVG",{"$nulls":3},{"v":10,"d":"10.00"},{"$nulls":6},"Mindestgebühr gem. § 13 Abs. 2 RVG",{"$nulls":3},{"v":15,"d":"15.00"}]
["Gegenstandswert, gedeckelt",{"$nulls":3},{"$f":"IF(Prozesskostenrechner!$C$4=\"\",0,MIN(E$27,Prozesskostenrechner!$C$4))","v":{"v":0,"d":"0.00"}},{"$nulls":6},"Gegenstandswert, gedeckelt",{"$nulls":3},{"$f":"IF(Prozesskostenrechner!$C$4=\"\",0,MIN(P$27,Prozesskostenrechner!$C$4))","v":{"v":0,"d":"0.00"}}]
["Staffel",1,2,3,4,5,6,7,8,9,null,"Staffel",1,2,3,4,5,6,7,9]
["Beginn",{"v":0,"d":"0.00"},{"$f":"B32+0.01","v":300.01},{"v":1500.01,"d":"1,500.01"},{"v":5000.01,"d":"5,000.01"},{"v":10000.01,"d":"10,000.01"},{"v":25000.01,"d":"25,000.01"},{"v":50000.01,"d":"50,000.01"},{"v":200000.01,"d":"200,000.01"},{"v":500000.01,"d":"500,000.01"},null,"Beginn",{"v":0,"d":"0.00"},{"$f":"M32+0.01","v":500.01},{"v":2000.01,"d":"2,000.01"},{"v":10000.01,"d":"10,000.01"},{"v":25000.01,"d":"25,000.01"},{"v":50000.01,"d":"50,000.01"},{"v":200000.01,"d":"200,000.01"},{"v":500000.01,"d":"500,000.01"}]
["Ende",{"v":300,"d":"300.00"},{"v":1500,"d":"1,500.00"},{"v":5000,"d":"5,000.00"},{"v":10000,"d":"10,000.00"},{"v":25000,"d":"25,000.00"},{"v":50000,"d":"50,000.00"},{"v":200000,"d":"200,000.00"},{"v":500000,"d":"500,000.00"},null,null,"Ende",{"v":500,"d":"500.00"},{"v":2000,"d":"2,000.00"},{"v":10000,"d":"10,000.00"},{"v":25000,"d":"25,000.00"},{"v":50000,"d":"50,000.00"},{"v":200000,"d":"200,000.00"},{"v":500000,"d":"500,000.00"}]
["Erhöhungsstufe",{"$f":"B32","v":{"v":300,"d":"300.00"}},{"v":300,"d":"300.00"},{"v":500,"d":"500.00"},{"v":1000,"d":"1,000.00"},{"v":3000,"d":"3,000.00"},{"v":5000,"d":"5,000.00"},{"v":15000,"d":"15,000.00"},{"v":30000,"d":"30,000.00"},{"v":50000,"d":"50,000.00"},null,"Erhöhungsstufe",{"$f":"M32","v":{"v":500,"d":"500.00"}},{"v":500,"d":"500.00"},{"v":1000,"d":"1,000.00"},{"v":3000,"d":"3,000.00"},{"v":5000,"d":"5,000.00"},{"v":15000,"d":"15,000.00"},{"v":30000,"d":"30,000.00"},{"v":50000,"d":"50,000.00"}]
["Erhöhung",{"v":25,"d":"25.00"},{"v":20,"d":"20.00"},{"v":28,"d":"28.00"},{"v":37,"d":"37.00"},{"v":40,"d":"40.00"},{"v":72,"d":"72.00"},{"v":77,"d":"77.00"},{"v":118,"d":"118.00"},{"v":150,"d":"150.00"},null,"Erhöhung",{"v":45,"d":"45.00"},{"v":35,"d":"35.00"},{"v":51,"d":"51.00"},{"v":46,"d":"46.00"},{"v":75,"d":"75.00"},{"v":85,"d":"85.00"},{"v":120,"d":"120.00"},{"v":150,"d":"150.00"}]
["Gebührensprünge",1,{"$f":"MAX(0,ROUNDDOWN((MIN($E$29,C32)-C31)/C33+1,0))","v":0},{"$f":"MAX(0,ROUNDDOWN((MIN($E$29,D32)-D31)/D33+1,0))","v":0},0,0,0,0,0,{"$f":"MAX(0,ROUNDDOWN(($E$29-J31)/J33+1,0))","v":0},null,"Gebührensprünge",1,{"$f":"MAX(0,ROUNDDOWN((MIN($E$29,N32)-N31)/N33+1,0))","v":0},0,0,0,0,0,{"$f":"MAX(0,ROUNDDOWN(($E$29-T31)/T33+1,0))","v":0}]
["Teilwertstufen",{"$f":"B35*B33","v":{"v":300,"d":"300.00"}},{"v":0,"d":"0.00"},{"v":0,"d":"0.00"},{"v":0,"d":"0.00"},{"v":0,"d":"0.00"},{"v":0,"d":"0.00"},{"v":0,"d":"0.00"},{"v":0,"d":"0.00"},{"v":0,"d":"0.00"},null,"Teilwertstufen",{"$f":"M35*M33","v":{"v":500,"d":"500.00"}},{"v":0,"d":"0.00"},{"v":0,"d":"0.00"},{"v":0,"d":"0.00"},{"v":0,"d":"0.00"},{"v":0,"d":"0.00"},{"v":0,"d":"0.00"},{"$f":"T35*T33","v":{"v":0,"d":"0.00"}}]
["Wertstufe",{"$f":"SUM(B36:J36)","v":{"v":300,"d":"300.00"}},{"$nulls":9},"Wertstufe",{"$f":"SUM(M36:T36)","v":{"v":500,"d":"500.00"}}]
["Teilgebühren",{"$f":"B35*B34","v":{"v":25,"d":"25.00"}},{"$f":"C35*C34","v":{"v":0,"d":"0.00"}},{"v":0,"d":"0.00"},{"v":0,"d":"0.00"},{"v":0,"d":"0.00"},{"v":0,"d":"0.00"},{"v":0,"d":"0.00"},{"v":0,"d":"0.00"},{"v":0,"d":"0.00"},null,"Teilgebühren",{"$f":"M35*M34","v":{"v":45,"d":"45.00"}},{"$f":"N35*N34","v":{"v":0,"d":"0.00"}},{"v":0,"d":"0.00"},{"v":0,"d":"0.00"},{"v":0,"d":"0.00"},{"v":0,"d":"0.00"},{"v":0,"d":"0.00"},{"$f":"T35*T34","v":{"v":0,"d":"0.00"}}]
["1,0-Gebühr",{"$f":"SUM(B38:J38)","v":{"v":25,"d":"25.00"}},{"$nulls":9},"1,0-Gebühr",{"$f":"SUM(M38:T38)","v":{"v":45,"d":"45.00"}}]
[]
["Rechtanwaltsvergütung in Abhängigkeit vom Gesetzesstand (konkrete Berechnung)"]
["Gegenstandswert, gedeckelt",{"$nulls":3},{"$f":"IF($B$1=$E26,$E29,IF($B$1=$P26,$P29,\"\"))","v":{"v":0,"d":"0.00"}}]
["Mindestgebühr",{"$nulls":3},{"$f":"IF($B$1=$E26,$E28,IF($B$1=$P26,$P28,\"\"))","v":{"v":15,"d":"15.00"}}]
["Wertstufe",{"$nulls":3},{"$f":"IF($B$1=$E26,$B37,IF($B$1=$P26,$M37,\"\"))","v":{"v":500,"d":"500.00"}}]
["1,0-Gebühr",{"$nulls":3},{"$f":"IF($B$1=$E26,$B39,IF($B$1=$P26,$M39,\"\"))","v":{"v":45,"d":"45.00"}}]
[]
["Gebühr einer Verbindlichen Auskunft (§ 89 Abs. 3 bis 5 AO)"]
["Gesetzesstand:",{"$f":"Prozesskostenrechner!C6","v":"ab 01.08.2013"}]
["Gebühr",{"$f":"IF(AND(B1=\"bis 31.07.2013\",Datenbank!E7<5000),121,IF(AND(B1=\"bis 31.07.2013\",Datenbank!E7>4999),B17,IF(AND(B1=\"ab 01.08.2013\",Datenbank!E7<10000),0,IF(AND(B1=\"ab 01.08.2013\",Datenbank!E7>9999),M17,-1))))","v":0}]